BEGIN:VCALENDAR
VERSION:2.0
PRODID:-//ChamberMaster//Event Calendar 2.0//EN
METHOD:PUBLISH
X-PUBLISHED-TTL:P3D
REFRESH-INTERVAL:P3D
CALSCALE:GREGORIAN
BEGIN:VEVENT
DTSTART:20190415T220000Z
DTEND:20190415T233000Z
X-MICROSOFT-CDO-ALLDAYEVENT:FALSE
SUMMARY:2019 Business After Hours April
DESCRIPTION:Join us for Business After Hours. This is a great networking opportunity at Clear Connection Chiropractic. Don't forget your business cards. Thank you to Clear Connection Chiropractic for hosting this months BAH. A huge thank you to Culver's and Junction Liquore as well for sponsoring this evening.
X-ALT-DESC;FMTTYPE=text/html:<span style="color: rgb(85\, 85\, 85)\; font-family: Raleway\, sans-serif\; font-size: 16px\; background-color: rgb(243\, 243\, 243)\;">Join us for Business After Hours. This is a great networking opportunity at Clear Connection Chiropractic. Don&#39\;t forget your business cards. Thank you to Clear Connection Chiropractic for hosting this months BAH. A huge thank you to Culver&#39\;s and Junction Liquore as well for sponsoring this evening.</span>
LOCATION:Clear Connections Chiropractic
UID:e.64.26509
SEQUENCE:3
DTSTAMP:20260426T011541Z
URL:https://menomonie-gzcms.preview.gochambermaster.com/events/details/2019-business-after-hours-april-26509
END:VEVENT

END:VCALENDAR
