BEGIN:VCALENDAR
VERSION:2.0
PRODID:-//ChamberMaster//Event Calendar 2.0//EN
METHOD:PUBLISH
X-PUBLISHED-TTL:P3D
REFRESH-INTERVAL:P3D
CALSCALE:GREGORIAN
BEGIN:VEVENT
DTSTART:20190327T120000Z
DTEND:20190327T130000Z
X-MICROSOFT-CDO-ALLDAYEVENT:FALSE
SUMMARY:2019 Business Professionals March- Coffee & Conversations
DESCRIPTION:Join us for Coffee & Conversations for Executive Directors of non-profits
X-ALT-DESC;FMTTYPE=text/html:<p>Join us for Coffee &amp\; Conversations for Executive Directors of non-profits</p>\n
LOCATION:At Chamber Office
UID:e.64.26506
SEQUENCE:3
DTSTAMP:20260426T035356Z
URL:https://menomonie-gzcms.preview.gochambermaster.com/events/details/2019-business-professionals-march-coffee-conversations-26506
END:VEVENT

END:VCALENDAR
