BEGIN:VCALENDAR
VERSION:2.0
PRODID:-//ChamberMaster//Event Calendar 2.0//EN
METHOD:PUBLISH
X-PUBLISHED-TTL:P3D
REFRESH-INTERVAL:P3D
CALSCALE:GREGORIAN
BEGIN:VEVENT
DTSTART:20190828T180000Z
DTEND:20190828T190000Z
X-MICROSOFT-CDO-ALLDAYEVENT:FALSE
SUMMARY:2019 Lodging & Event Meeting - August
DESCRIPTION:Join us at the Chamber of Commerce Office to discuss upcoming events and event ideas for the Menomonie Area with the local lodging community.
X-ALT-DESC;FMTTYPE=text/html:Join us at the Chamber of Commerce Office to discuss upcoming events and event ideas for the Menomonie Area with the local lodging community.&nbsp\;
LOCATION:342 Main St E Menomonie\, WI
UID:e.64.26923
SEQUENCE:3
DTSTAMP:20260425T194314Z
URL:https://menomonie-gzcms.preview.gochambermaster.com/events/details/2019-lodging-event-meeting-august-26923
END:VEVENT

END:VCALENDAR
