BEGIN:VCALENDAR
VERSION:2.0
PRODID:-//ChamberMaster//Event Calendar 2.0//EN
METHOD:PUBLISH
X-PUBLISHED-TTL:P3D
REFRESH-INTERVAL:P3D
CALSCALE:GREGORIAN
BEGIN:VEVENT
DTSTART:20190413T230000Z
DTEND:20190414T030000Z
X-MICROSOFT-CDO-ALLDAYEVENT:FALSE
SUMMARY:2019 Menomonie Sunrise Rotary Beer\, Food & Wine Tasting
DESCRIPTION:2019 Menomonie Sunrise Rotary Beer\, Food & Wine Tasting
X-ALT-DESC;FMTTYPE=text/html:2019 Menomonie Sunrise Rotary Beer\, Food &amp\; Wine Tasting&nbsp\;
LOCATION:Vision Quest
UID:e.64.26637
SEQUENCE:3
DTSTAMP:20260426T011733Z
URL:https://menomonie-gzcms.preview.gochambermaster.com/events/details/2019-menomonie-sunrise-rotary-beer-food-wine-tasting-26637
END:VEVENT

END:VCALENDAR
