BEGIN:VCALENDAR
VERSION:2.0
PRODID:-//ChamberMaster//Event Calendar 2.0//EN
METHOD:PUBLISH
X-PUBLISHED-TTL:P3D
REFRESH-INTERVAL:P3D
CALSCALE:GREGORIAN
BEGIN:VEVENT
DTSTART;VALUE=DATE:20190206
DTEND;VALUE=DATE:20190207
TRANSP:TRANSPARENT
X-MICROSOFT-CDO-ALLDAYEVENT:TRUE
SUMMARY:2019 St. Croix Rally
DESCRIPTION:Join us as we travel with our partners\, St. Croix Valley Chambers and Economic Development as we advocate for issues impacting the St. Croix Valley (St. Croix and Dunn) by meeting with out legislators in Madison\, WI.
X-ALT-DESC;FMTTYPE=text/html:Join us as we travel with our partners\, St. Croix Valley Chambers and Economic Development as we advocate for issues impacting the St. Croix Valley (St. Croix and Dunn) by meeting with out legislators in Madison\, WI.
LOCATION:
UID:e.64.26503
SEQUENCE:3
DTSTAMP:20260426T035341Z
URL:https://menomonie-gzcms.preview.gochambermaster.com/events/details/2019-st-croix-rally-26503
END:VEVENT

END:VCALENDAR
