BEGIN:VCALENDAR
VERSION:2.0
PRODID:-//ChamberMaster//Event Calendar 2.0//EN
METHOD:PUBLISH
X-PUBLISHED-TTL:P3D
REFRESH-INTERVAL:P3D
CALSCALE:GREGORIAN
BEGIN:VEVENT
DTSTART:20201017T210000Z
DTEND:20201018T000000Z
X-MICROSOFT-CDO-ALLDAYEVENT:FALSE
SUMMARY:2020 brewery nønic 1st Annual Booyah Feed
DESCRIPTION:Check it out! This Saturday the 17th we have Mark Johnson\, former owner and chef of Zanzibar Restaurant and Pub cooking up some classic Wisconsin style Booyah stew in a literal cauldron! Serving at 4pm on the patio.\n\n\n\nPatio heaters will be on. Bonfire will be lit. Bring your own to-go container if you'd like. We will have tarps wrapped around the patio to knock the wind down. Come join us!
X-ALT-DESC;FMTTYPE=text/html:<div class="kvgmc6g5 cxmmr5t8 oygrvhab hcukyx3x c1et5uql ii04i59q" style="overflow-wrap: break-word\; margin: 0px\; white-space: pre-wrap\; font-family: &quot\;Segoe UI Historic&quot\;\, &quot\;Segoe UI&quot\;\, Helvetica\, Arial\, sans-serif\; color: rgb(5\, 5\, 5)\; font-size: 15px\;">\n<div dir="auto" style="font-family: inherit\;">Check it out! This Saturday the 17th we have Mark Johnson\, former owner and chef of Zanzibar Restaurant and Pub cooking up some classic Wisconsin style Booyah stew in a literal cauldron! Serving at 4pm on the patio.</div>\n</div>\n\n<div class="o9v6fnle cxmmr5t8 oygrvhab hcukyx3x c1et5uql ii04i59q" style="overflow-wrap: break-word\; margin: 0.5em 0px 0px\; white-space: pre-wrap\; font-family: &quot\;Segoe UI Historic&quot\;\, &quot\;Segoe UI&quot\;\, Helvetica\, Arial\, sans-serif\; color: rgb(5\, 5\, 5)\; font-size: 15px\;">\n<div dir="auto" style="font-family: inherit\;">Patio heaters will be on. Bonfire will be lit. Bring your own to-go container if you&#39\;d like. We will have tarps wrapped around the patio to knock the wind down. Come join us!</div>\n</div>\n
LOCATION:brewery n nic - 621 4th Street\, Menomonie
UID:e.64.30701
SEQUENCE:3
DTSTAMP:20260424T102300Z
URL:https://menomonie-gzcms.preview.gochambermaster.com/events/details/2020-brewery-n&#248;nic-1st-annual-booyah-feed-30701
END:VEVENT

END:VCALENDAR
