BEGIN:VCALENDAR
VERSION:2.0
PRODID:-//ChamberMaster//Event Calendar 2.0//EN
METHOD:PUBLISH
X-PUBLISHED-TTL:P3D
REFRESH-INTERVAL:P3D
CALSCALE:GREGORIAN
BEGIN:VEVENT
DTSTART:20220120T140000Z
DTEND:20220120T230000Z
X-MICROSOFT-CDO-ALLDAYEVENT:FALSE
SUMMARY:2021 2022 Leadership Menomonie
DESCRIPTION:Leadership Menomonie (LM) is designed to develop community leaders who have the skills to work together\, be part of solutions\, and accept ownership of community issues. Graduates will have completed nine full-day sessions\, studying a wide variety of topics including education\, business and industry\, heritage\, arts and tourism\, media\, government and law\, health and human services\, agriculture and environment.\n\n\n\nGraduates are provided the opportunity to meet area leaders\, organizations and fellow alumni.\n\n\n\nAttendance Policy: Regular attendance and punctuality are essential for the smooth operation of this program. A maximum of two classes may be missed. Missing more than two classes will result in immediate termination of the attendee from the class.  \n\n\n\nLeadership Menomonie Retreat Information
X-ALT-DESC;FMTTYPE=text/html:<font color="#666666" face="Telex\, Arial"><span style="font-size: 14px\;">Leadership Menomonie (LM) is designed to&nbsp\;develop community leaders who have the skills to work together\, be part of solutions\, and accept ownership of community issues. Graduates will have completed nine full-day sessions\, studying a wide variety of topics including education\, business and industry\, heritage\, arts and tourism\, media\, government&nbsp\;and law\, health&nbsp\;and human services\, agriculture and environment.</span></font>\n<div class="le_content" data-attr_width="" data-best_fit="1" id="le_55aff05a4eff9" le_content_type="text" le_content_uuid="55aff05a4eff9" style="box-sizing: border-box\; caret-color: rgb(102\, 102\, 102)\; color: rgb(102\, 102\, 102)\; font-family: Telex\, Arial\; font-size: 14px\;">\n<p style="box-sizing: border-box\; margin: 0px 0px 10px\;"><br style="box-sizing: border-box\;" />\nGraduates are provided the opportunity to meet area leaders\, organizations and fellow alumni.<br style="box-sizing: border-box\;" />\n<br />\n<span style="box-sizing: border-box\; color: rgb(128\, 0\, 0)\;">Attendance Policy: Regular attendance and punctuality are essential for the smooth operation of this program. A maximum of two classes may be missed. Missing more than two classes will result in immediate termination of the attendee from the class.&nbsp\;&nbsp\;</span><br style="box-sizing: border-box\;" />\n<br style="box-sizing: border-box\;" />\n<strong><a href="https://business.menomoniechamber.org/events/details/2021-leadership-menomonie-retreat-32796">Leadership Menomonie Retreat Information</a></strong></p>\n</div>\n
LOCATION:Leadership Menomonie is an on-site\, hand-on experience. We will visit different businesses\, organizations and institutions to give you a behind-the-scenes look at operations. Each program day will include a new location and a new topic to give you an enhanced perspective about business and industry in the Greater Menomonie Area. Anticipated Schedule with dates and topics subject to change due to local health recommendations. Retreat - September 28 -29 (Overnight stay included in tuition) Arts\, Heritage & Tourism - October 21 Education - November 18 Professional Development / Community Service - December 16 Government & Law - January 20\, 2022 Business & Industry - February 17 Ag & Environment - March 17 Health & Human Services - April 21 Manufacturing - May 19 Graduation - June 16
UID:e.64.30921
SEQUENCE:3
DTSTAMP:20260422T214934Z
URL:https://menomonie-gzcms.preview.gochambermaster.com/events/details/2021-2022-leadership-menomonie-30921
END:VEVENT

END:VCALENDAR
