BEGIN:VCALENDAR
VERSION:2.0
PRODID:-//ChamberMaster//Event Calendar 2.0//EN
METHOD:PUBLISH
X-PUBLISHED-TTL:P3D
REFRESH-INTERVAL:P3D
CALSCALE:GREGORIAN
BEGIN:VEVENT
DTSTART:20210823T220000Z
DTEND:20210823T233000Z
X-MICROSOFT-CDO-ALLDAYEVENT:FALSE
SUMMARY:2021 Business After Hours August 23
DESCRIPTION:Business After Hours is a place to meet other business professionals in the Menomonie Area!  Get together with other professionals for an evening meet and greet at a local business to discuss business.  Have a good time while getting to know other businesses in the area!!\n\n\n\nThank you Airtec Sports and Jake's Supper Club for being the August Sponsors!!\n\n\n\n\n\n50/50 Raffle Option\n\nBusiness Card Raffle Drawing
X-ALT-DESC;FMTTYPE=text/html:Business After Hours is a place to meet other business professionals in the Menomonie Area!&nbsp\; Get together with other professionals for an evening meet and greet at a local business to discuss business.&nbsp\; Have a good time while getting to know other businesses in the area!!<br />\n<br />\nThank you <strong><a href="https://www.airtecsportsmenomonie.com/">Airtec Sports</a> </strong>and <strong><a href="https://www.jakessupperclub.com/">Jake&#39\;s Supper Club</a></strong> for being the August Sponsors!!<br />\n<br />\n<br />\n50/50 Raffle Option<br />\nBusiness Card Raffle Drawing<br />\n<br />\n&nbsp\;
LOCATION:Jake's Supper Club E5690 CR-D Menomonie WI 54751
UID:e.64.32572
SEQUENCE:3
DTSTAMP:20260423T100604Z
URL:https://menomonie-gzcms.preview.gochambermaster.com/events/details/2021-business-after-hours-august-23-32572
END:VEVENT

END:VCALENDAR
