BEGIN:VCALENDAR
VERSION:2.0
PRODID:-//ChamberMaster//Event Calendar 2.0//EN
METHOD:PUBLISH
X-PUBLISHED-TTL:P3D
REFRESH-INTERVAL:P3D
CALSCALE:GREGORIAN
BEGIN:VEVENT
DTSTART:20210621T220000Z
DTEND:20210621T233000Z
X-MICROSOFT-CDO-ALLDAYEVENT:FALSE
SUMMARY:2021 Business After Hours June 21
DESCRIPTION:The Heights Menomonie and Stout Craft Co. invites you to...\n\n\n\nIncrease your business relationships by attending Business After Hours for this social networking experience.\n\n\n\n50/50 Raffle Option\n\nBusiness Card Raffle Drawing
X-ALT-DESC;FMTTYPE=text/html:The Heights Menomonie and Stout Craft Co. invites you to...<br />\n<br />\nIncrease your business relationships by attending Business After Hours for this social networking experience.<br />\n<br />\n50/50 Raffle Option<br />\nBusiness Card Raffle Drawing<br />\n<br />\n&nbsp\;
LOCATION:202 17th Ave W. Menomonie WI 54751
UID:e.64.32571
SEQUENCE:3
DTSTAMP:20260423T171101Z
URL:https://menomonie-gzcms.preview.gochambermaster.com/events/details/2021-business-after-hours-june-21-32571
END:VEVENT

END:VCALENDAR
