BEGIN:VCALENDAR
VERSION:2.0
PRODID:-//ChamberMaster//Event Calendar 2.0//EN
METHOD:PUBLISH
X-PUBLISHED-TTL:P3D
REFRESH-INTERVAL:P3D
CALSCALE:GREGORIAN
BEGIN:VEVENT
DTSTART:20211110T230000Z
DTEND:20211111T010000Z
X-MICROSOFT-CDO-ALLDAYEVENT:FALSE
SUMMARY:2021 Business After Hours November 10
DESCRIPTION:Bill's Distributing and the Greater Menomonie Development Corporation\n\n\n\nIncrease your business relationships by attending Business After Hours for this social networking experience.\n\n\n\n50/50 Raffle Option\n\nBusiness Card Raffle Drawing
X-ALT-DESC;FMTTYPE=text/html:Bill&#39\;s Distributing and the Greater Menomonie Development Corporation<br />\n<br />\nIncrease your business relationships by attending Business After Hours for this social networking experience.<br />\n<br />\n50/50 Raffle Option<br />\nBusiness Card Raffle Drawing<br />\n<br />\n&nbsp\;
LOCATION:Bill's Distributing
UID:e.64.32828
SEQUENCE:3
DTSTAMP:20260423T025938Z
URL:https://menomonie-gzcms.preview.gochambermaster.com/events/details/2021-business-after-hours-november-10-32828
END:VEVENT

END:VCALENDAR
