BEGIN:VCALENDAR
VERSION:2.0
PRODID:-//ChamberMaster//Event Calendar 2.0//EN
METHOD:PUBLISH
X-PUBLISHED-TTL:P3D
REFRESH-INTERVAL:P3D
CALSCALE:GREGORIAN
BEGIN:VEVENT
DTSTART:20210928T220000Z
DTEND:20210929T200000Z
X-MICROSOFT-CDO-ALLDAYEVENT:FALSE
SUMMARY:2021 Leadership Menomonie Retreat
DESCRIPTION:The Leadership Menomonie retreat is an added bonus to the the Leadership Menomonie program!  The class will receive professional development\, learn more about the Chamber and the community\, practice team building and more!
X-ALT-DESC;FMTTYPE=text/html:The Leadership Menomonie retreat is an added bonus to the the Leadership Menomonie program!&nbsp\; The class will receive professional development\, learn more about the Chamber and the community\, practice team building and more!
LOCATION:White's Wildwood Retreat LLC 18059 County Hwy OO Chippewa Falls WI 54729
UID:e.64.32796
SEQUENCE:3
DTSTAMP:20260423T041746Z
URL:https://menomonie-gzcms.preview.gochambermaster.com/events/details/2021-leadership-menomonie-retreat-32796
END:VEVENT

END:VCALENDAR
