BEGIN:VCALENDAR
VERSION:2.0
PRODID:-//ChamberMaster//Event Calendar 2.0//EN
METHOD:PUBLISH
X-PUBLISHED-TTL:P3D
REFRESH-INTERVAL:P3D
CALSCALE:GREGORIAN
BEGIN:VEVENT
DTSTART:20221114T230000Z
DTEND:20221115T003000Z
X-MICROSOFT-CDO-ALLDAYEVENT:FALSE
SUMMARY:2022 Business After Hours Program
DESCRIPTION:You are invited the 2nd Monday of each month for Business After Hours. Build business relationships with other business people in a social atmosphere. It is a great opportunity to make those important business connections. \n\n \n\nJoin us for our monthly networking event at Menomonie area's hottest locations. We ensure that you make the connections you need - and want - to grow your business. Co-Hosted by Cedar Corporation\, City of Menomonie\, and Cedar Falls Building Systems\, Inc. Complimentary food & beverages.\n\n \n\nThe topic of interest: Learn about a great talent attraction tool offered right here in Menomonie!\n\n \n\n\nBring your business cards to exchange and for the door prize drawing. A 50/50 raffle is also available.
X-ALT-DESC;FMTTYPE=text/html:<p style="box-sizing: border-box\; margin: 0px\; padding: 0px\; border: 0px\; font-size: 14px\; line-height: 1.5\; color: rgb(102\, 102\, 102)\; font-family: &quot\;PT Sans&quot\;\, sans-serif\;"><span style="font-size:14px\;">You are invited the 2nd Monday of each month for&nbsp\;Business After Hours. Build business relationships with other business people in a social atmosphere. It is a great opportunity to make those important business connections.&nbsp\;</span><br />\n&nbsp\;</p>\n\n<div style="border: 0px\; font-variant-numeric: inherit\; font-variant-east-asian: inherit\; font-stretch: inherit\; font-size: 12px\; line-height: inherit\; font-family: Arial\, Verdana\, Helvetica\, sans-serif\; margin: 0px\; padding: 0px\; vertical-align: baseline\; color: rgb(48\, 48\, 48)\;"><span style="border: 0px\; font: inherit\; margin: 0px\; padding: 0px\; vertical-align: baseline\; color: rgb(0\, 0\, 0)\;">Join us for our monthly networking event at Menomonie area&#39\;s hottest locations. We ensure that you make the connections you need - and want - to grow your business. Co-Hosted by&nbsp\;</span><a data-auth="NotApplicable" data-linkindex="7" data-safelink="true" href="http://www.cedarcorp.com/" rel="noopener noreferrer" style="border: 0px\; font-variant: inherit\; font-stretch: inherit\; font-size: inherit\; line-height: inherit\; font-family: inherit\; margin: 0px\; padding: 0px\; vertical-align: baseline\; text-decoration-line: none\; color: rgb(1\, 153\, 160)\;" target="_blank">Cedar Corporation</a>\,&nbsp\;<a data-auth="NotApplicable" data-linkindex="8" data-safelink="true" href="https://www.menomonie-wi.gov/" rel="noopener noreferrer" style="border: 0px\; font-variant: inherit\; font-stretch: inherit\; font-size: inherit\; line-height: inherit\; font-family: inherit\; margin: 0px\; padding: 0px\; vertical-align: baseline\; text-decoration-line: none\; color: rgb(1\, 153\, 160)\;" target="_blank">City of Menomonie</a>\, and&nbsp\;<a data-auth="NotApplicable" data-linkindex="9" data-safelink="true" href="http://www.cfbsi.com/" rel="noopener noreferrer" style="border: 0px\; font-variant: inherit\; font-stretch: inherit\; font-size: inherit\; line-height: inherit\; font-family: inherit\; margin: 0px\; padding: 0px\; vertical-align: baseline\; text-decoration-line: none\; color: rgb(1\, 153\, 160)\;" target="_blank">Cedar Falls Building Systems\, Inc</a>. Complimentary food &amp\; beverages.</div>\n\n<div style="border: 0px\; font-variant-numeric: inherit\; font-variant-east-asian: inherit\; font-stretch: inherit\; font-size: 12px\; line-height: inherit\; font-family: Arial\, Verdana\, Helvetica\, sans-serif\; margin: 0px\; padding: 0px\; vertical-align: baseline\; color: rgb(48\, 48\, 48)\;">&nbsp\;</div>\n\n<div style="border: 0px\; font-variant-numeric: inherit\; font-variant-east-asian: inherit\; font-stretch: inherit\; font-size: 12px\; line-height: inherit\; font-family: Arial\, Verdana\, Helvetica\, sans-serif\; margin: 0px\; padding: 0px\; vertical-align: baseline\; color: rgb(48\, 48\, 48)\;">The topic of interest: Learn about a great talent attraction tool offered right here in Menomonie!</div>\n\n<p style="box-sizing: border-box\; margin: 0px\; padding: 0px\; border: 0px\; font-size: 14px\; line-height: 1.5\; color: rgb(102\, 102\, 102)\; font-family: &quot\;PT Sans&quot\;\, sans-serif\;">&nbsp\;</p>\n<br />\n<span style="font-size:14px\;"><span style="font-family:arial\;">Bring your business cards to exchange and for the door prize drawing. A 50/50 raffle is also available.</span></span><br />\n<br />\n<br />\n<br />\n<br />\n&nbsp\;
LOCATION:January 10- Dairy State Bank & Waznik Moseler Group\, LLC February 14 - Menomonie Area Chamber & Visitor Center at Donut Sam's March 14 - 29 Pines\, Sleep Inn & Suites Conference Center & River Country Cooperative April 11 - Marketplace Foods Menomonie & United Way Dunn County May 9 - Whitetail Golf Course June 13 - Log Jam Bar & Eatery July 11 - Cancelled August 8 - Cancun Mexican Grill & Mainstream Boutique September 12 - Business at the Airport October 10 - WESTconsin Credit Union\, Dunn Energy Cooperative\, Menomonie Market Food Co-op\, Royal Credit Union\, 24-7 & West Wisconsin Telcom\, Group Health Cooperative of Eau Claire November 14 - Cedar Corporation\, City of Menomonie\, and Cedar Falls Building Systems\, Inc. December 12- Holiday Party - at Markquart
UID:e.64.33440
SEQUENCE:3
DTSTAMP:20260421T184442Z
URL:https://menomonie-gzcms.preview.gochambermaster.com/events/details/2022-business-after-hours-program-11-14-2022-33440
END:VEVENT

END:VCALENDAR
