BEGIN:VCALENDAR
VERSION:2.0
PRODID:-//ChamberMaster//Event Calendar 2.0//EN
METHOD:PUBLISH
X-PUBLISHED-TTL:P3D
REFRESH-INTERVAL:P3D
CALSCALE:GREGORIAN
BEGIN:VEVENT
DTSTART:20220427T170000Z
DTEND:20220427T180000Z
X-MICROSOFT-CDO-ALLDAYEVENT:FALSE
SUMMARY:2022 Entrepreneurs in Action Roundtable April
DESCRIPTION:Listen live to local business owners about their experience establishing a business in the Menomonie area.\n\n\n\nPresenters:\n\n6th Avenue Cidery / Donut Sam's\n\nLa dee dah\n\nMechgineering & Design\, LLC\n\nRE/MAX Affiliates - Casey Martin\n                                   \nJoin Zoom Meeting\n\nhttps://us02web.zoom.us/j/85372363863?pwd=RERBL3hKb2J3TTdQd25SNUd6SEg4Zz09 \n\n\n\nMeeting ID: 853 7236 3863\n\nPasscode: 794433\n\nOne tap mobile\n\n+13017158592\,\,85372363863#\,\,\,\,*794433# US (Washington DC)\n\n+13126266799\,\,85372363863#\,\,\,\,*794433# US (Chicago)\n\n\n\nDial by your location\n\n        +1 301 715 8592 US (Washington DC)\n\n        +1 312 626 6799 US (Chicago)
X-ALT-DESC;FMTTYPE=text/html:<span style="font-size:12px\;"><span style="font-family:arial\;">Listen live to local business owners about their experience establishing a business in the Menomonie area.<br />\n<br />\nPresenters:<br />\n<a href="http://6thavenuecidery.com/">6th Avenue Cidery</a> / <a href="https://www.donutsams.com/">Donut Sam&#39\;s</a><br />\n<a href="https://www.ladeedahgiftshop.com/">La dee dah</a><br />\n<a href="https://mechmanufacturing.com/">Mechgineering &amp\; Design\, LLC</a><br />\n<a href="https://www.remax.com/real-estate-agents/casey-martin-menomonie-wi/102216560">RE/MAX Affiliates - Casey Martin</a></span></span>\n<div class="_04xlpA direction-ltr align-start para-style-body" style="font-family: &quot\;YACgETiWKS8 0&quot\;\, _fb_\, auto\; font-size: 21.3334px\; line-height: 1.6\; letter-spacing: 0.1em\; color: rgb(105\, 105\, 105)\;"><span style="font-size:12px\;"><span style="font-family:arial\;"><span class="JsGRdQ">&#8203\;</span></span></span>&nbsp\; &nbsp\; &nbsp\; &nbsp\; &nbsp\; &nbsp\; &nbsp\; &nbsp\; &nbsp\; &nbsp\; &nbsp\; &nbsp\; &nbsp\; &nbsp\; &nbsp\; &nbsp\; &nbsp\;&nbsp\;</div>\n<strong>Join Zoom Meeting</strong><br />\n<a href="https://us02web.zoom.us/j/85372363863?pwd=RERBL3hKb2J3TTdQd25SNUd6SEg4Zz09">https://us02web.zoom.us/j/85372363863?pwd=RERBL3hKb2J3TTdQd25SNUd6SEg4Zz09&nbsp\;</a><br />\n<br />\nMeeting ID: 853 7236 3863<br />\nPasscode: 794433<br />\nOne tap mobile<br />\n+13017158592\,\,85372363863#\,\,\,\,*794433# US (Washington DC)<br />\n+13126266799\,\,85372363863#\,\,\,\,*794433# US (Chicago)<br />\n<br />\nDial by your location<br />\n&nbsp\; &nbsp\; &nbsp\; &nbsp\; +1 301 715 8592 US (Washington DC)<br />\n&nbsp\; &nbsp\; &nbsp\; &nbsp\; +1 312 626 6799 US (Chicago)
LOCATION:ZOOM
UID:e.64.33389
SEQUENCE:3
DTSTAMP:20260422T075758Z
URL:https://menomonie-gzcms.preview.gochambermaster.com/events/details/2022-entrepreneurs-in-action-roundtable-april-33389
END:VEVENT

END:VCALENDAR
