BEGIN:VCALENDAR
VERSION:2.0
PRODID:-//ChamberMaster//Event Calendar 2.0//EN
METHOD:PUBLISH
X-PUBLISHED-TTL:P3D
REFRESH-INTERVAL:P3D
CALSCALE:GREGORIAN
BEGIN:VEVENT
DTSTART;VALUE=DATE:20221104
DTEND;VALUE=DATE:20221105
TRANSP:TRANSPARENT
X-MICROSOFT-CDO-ALLDAYEVENT:TRUE
SUMMARY:2022 Holiday Raffle
DESCRIPTION:Purchase your Holiday Raffle tickets for your opportunity to win!  Over $4\,000 of Chamber Checks will be awarded from Black Friday through New Years Eve on a progressive schedule.  Only 1\,000 tickets are sold!  \n\n\n\nRaffle tickets will be sold from October 24 - December 29.  The earlier you purchase\, the more chances you have to win.  Drawings will take place daily from November 25 - December 31st.  If you win\, your tickets goes back into the tumbler and may be drawn again and again!  Drawings will take place daily on Facebook live and winning names will be posted daily on www.menomoniechamber.org.
X-ALT-DESC;FMTTYPE=text/html:Purchase your Holiday Raffle tickets for your opportunity to win!&nbsp\; Over $4\,000 of Chamber Checks will be awarded from Black Friday through New Years Eve on a progressive schedule.&nbsp\; Only 1\,000 tickets are sold!&nbsp\;&nbsp\;<br />\n<br />\nRaffle tickets will be sold from October 24 - December 29.&nbsp\; The earlier you purchase\, the more chances you have to win.&nbsp\; Drawings will take place daily from November 25 - December 31st.&nbsp\; If you win\, your tickets goes back into the tumbler and may be drawn again and again!&nbsp\; Drawings will take place daily on Facebook live and winning names will be posted daily on www.menomoniechamber.org.&nbsp\;&nbsp\;
LOCATION:Tickets may be purchased at the Menomonie Area Chamber & Visitor Center as well as from Chamber volunteers.
UID:e.64.35917
SEQUENCE:3
DTSTAMP:20260421T163325Z
URL:https://menomonie-gzcms.preview.gochambermaster.com/events/details/2022-holiday-raffle-11-04-2022-35917
END:VEVENT

END:VCALENDAR
