BEGIN:VCALENDAR
VERSION:2.0
PRODID:-//ChamberMaster//Event Calendar 2.0//EN
METHOD:PUBLISH
X-PUBLISHED-TTL:P3D
REFRESH-INTERVAL:P3D
CALSCALE:GREGORIAN
BEGIN:VEVENT
DTSTART:20220714T210000Z
DTEND:20220714T220000Z
X-MICROSOFT-CDO-ALLDAYEVENT:FALSE
SUMMARY:2022 Ribbon Cutting - Ellsworth Cooperative Creamery
DESCRIPTION:Celebrate the Grand Opening of Ellsworth Cooperative Creamery!!  Start the celebration with a ribbon cutting at 4p.m. and stay for in-store specials\, samples\, tastings\, food truck and more!  Continue this celebration until July 17 with a variety of new way to celebrate.
X-ALT-DESC;FMTTYPE=text/html:<span style="font-family:times new roman\;"><span style="font-size: 12px\;">Celebrate the Grand Opening of Ellsworth Cooperative Creamery!!&nbsp\; Start the celebration with a ribbon cutting at 4p.m. and stay for in-store specials\, samples\, tastings\, food truck and more!&nbsp\; Continue this celebration until July 17 with a variety of new way to celebrate.</span></span>
LOCATION:3001 County Road B Menomonie WI 54751
UID:e.64.33554
SEQUENCE:3
DTSTAMP:20260422T080008Z
URL:https://menomonie-gzcms.preview.gochambermaster.com/events/details/2022-ribbon-cutting-ellsworth-cooperative-creamery-33554
END:VEVENT

END:VCALENDAR
