BEGIN:VCALENDAR
VERSION:2.0
PRODID:-//ChamberMaster//Event Calendar 2.0//EN
METHOD:PUBLISH
X-PUBLISHED-TTL:P3D
REFRESH-INTERVAL:P3D
CALSCALE:GREGORIAN
BEGIN:VEVENT
DTSTART:20220125T230000Z
DTEND:20220126T010000Z
X-MICROSOFT-CDO-ALLDAYEVENT:FALSE
SUMMARY:2022 Young Professionals Health & Wellness Event
DESCRIPTION:Kickoff the year by attending this FREE 18+ Health & Wellness Event hosted by the Menomonie Young Professionals!  Learn about area health and wellness opportunities and offerings by listening to area businesses present about their products and services.\n\n\n\nPromote Your Health & Wellness Business:\n\nInvestors no charge \n\nNon-Investors purchase your promotional time for $25 \n\n\n\nPresenters:\n5:15 p.m. - Lisa Tavares Image Consultant \n\n5:30 - Optimum Therapies\n\n5:45 - Fire Fitness\n\n6:00 - WoodWind Park\n\n6:15 - Rize Nutrition\n\n6:30 - Options for Women\n\n6:45 p.m.  - Trivia to win Chamber Checks!!
X-ALT-DESC;FMTTYPE=text/html:Kickoff the year by attending this FREE 18+ Health &amp\; Wellness Event hosted by the Menomonie Young Professionals!&nbsp\; Learn about area health and wellness opportunities and offerings by listening to area businesses present about their products and services.<br />\n<br />\n<strong>Promote Your Health &amp\; Wellness Business:</strong><br />\nInvestors no charge&nbsp\;<br />\nNon-Investors purchase your promotional time for $25&nbsp\;<br />\n<br />\n<strong>Presenters:</strong>\n<div style="margin: 0px\; padding: 0px\; border: 0px\; font-variant-numeric: inherit\; font-variant-east-asian: inherit\; font-stretch: inherit\; font-size: 12pt\; line-height: inherit\; font-family: Calibri\, Arial\, Helvetica\, sans-serif\; vertical-align: baseline\; color: black\;">5:15 p.m. - Lisa Tavares Image Consultant&nbsp\;</div>\n\n<div style="margin: 0px\; padding: 0px\; border: 0px\; font-variant-numeric: inherit\; font-variant-east-asian: inherit\; font-stretch: inherit\; font-size: 12pt\; line-height: inherit\; font-family: Calibri\, Arial\, Helvetica\, sans-serif\; vertical-align: baseline\; color: black\;">5:30 - Optimum Therapies</div>\n\n<div style="margin: 0px\; padding: 0px\; border: 0px\; font-variant-numeric: inherit\; font-variant-east-asian: inherit\; font-stretch: inherit\; font-size: 12pt\; line-height: inherit\; font-family: Calibri\, Arial\, Helvetica\, sans-serif\; vertical-align: baseline\; color: black\;">5:45 - Fire Fitness</div>\n\n<div style="margin: 0px\; padding: 0px\; border: 0px\; font-variant-numeric: inherit\; font-variant-east-asian: inherit\; font-stretch: inherit\; font-size: 12pt\; line-height: inherit\; font-family: Calibri\, Arial\, Helvetica\, sans-serif\; vertical-align: baseline\; color: black\;">6:00 - WoodWind Park</div>\n\n<div style="margin: 0px\; padding: 0px\; border: 0px\; font-variant-numeric: inherit\; font-variant-east-asian: inherit\; font-stretch: inherit\; font-size: 12pt\; line-height: inherit\; font-family: Calibri\, Arial\, Helvetica\, sans-serif\; vertical-align: baseline\; color: black\;">6:15 - Rize Nutrition</div>\n\n<div style="margin: 0px\; padding: 0px\; border: 0px\; font-variant-numeric: inherit\; font-variant-east-asian: inherit\; font-stretch: inherit\; font-size: 12pt\; line-height: inherit\; font-family: Calibri\, Arial\, Helvetica\, sans-serif\; vertical-align: baseline\; color: black\;">6:30 - Options for Women</div>\n\n<div style="margin: 0px\; padding: 0px\; border: 0px\; font-variant-numeric: inherit\; font-variant-east-asian: inherit\; font-stretch: inherit\; font-size: 12pt\; line-height: inherit\; font-family: Calibri\, Arial\, Helvetica\, sans-serif\; vertical-align: baseline\; color: black\;">6:45 p.m.&nbsp\; - Trivia to win Chamber Checks!!</div>\n<br />\n<br />\n&nbsp\;
LOCATION:ZOOM Passcode:828323
UID:e.64.33261
SEQUENCE:3
DTSTAMP:20260422T221013Z
URL:https://menomonie-gzcms.preview.gochambermaster.com/events/details/2022-young-professionals-health-wellness-event-33261
END:VEVENT

END:VCALENDAR
