BEGIN:VCALENDAR
VERSION:2.0
PRODID:-//ChamberMaster//Event Calendar 2.0//EN
METHOD:PUBLISH
X-PUBLISHED-TTL:P3D
REFRESH-INTERVAL:P3D
CALSCALE:GREGORIAN
BEGIN:VEVENT
DTSTART:20230919T200000Z
DTEND:20230919T210000Z
X-MICROSOFT-CDO-ALLDAYEVENT:FALSE
SUMMARY:2023 Ribbon Cutting - Green Fleet
DESCRIPTION:Come celebrate the expansion of Green Fleet's luxury transportation in Menomonie!
X-ALT-DESC;FMTTYPE=text/html:Come celebrate the expansion of Green Fleet&#39\;s luxury transportation in Menomonie!
LOCATION:Menomonie Area Chamber & Visitor Center 1125 N Broadway St.\, Suite 3 Menomonie\, WI 54751
UID:e.64.34857
SEQUENCE:3
DTSTAMP:20260419T224142Z
URL:https://menomonie-gzcms.preview.gochambermaster.com/events/details/2023-ribbon-cutting-green-fleet-34857
END:VEVENT

END:VCALENDAR
