BEGIN:VCALENDAR
VERSION:2.0
PRODID:-//ChamberMaster//Event Calendar 2.0//EN
METHOD:PUBLISH
X-PUBLISHED-TTL:P3D
REFRESH-INTERVAL:P3D
CALSCALE:GREGORIAN
BEGIN:VEVENT
DTSTART:20230831T203000Z
DTEND:20230831T213000Z
X-MICROSOFT-CDO-ALLDAYEVENT:FALSE
SUMMARY:2023 Ribbon Cutting - Hurlburt Heating & Plumbing
DESCRIPTION:Come celebrate the Grand Opening of Hurlburt Heating & Plumbing in Menomonie!
X-ALT-DESC;FMTTYPE=text/html:Come celebrate the Grand Opening of Hurlburt Heating &amp\; Plumbing in Menomonie!
LOCATION:Hurlburt Heating & Plumbing 2930 61st Street NE Menomonie\, WI 54751
UID:e.64.34807
SEQUENCE:3
DTSTAMP:20260420T015908Z
URL:https://menomonie-gzcms.preview.gochambermaster.com/events/details/2023-ribbon-cutting-hurlburt-heating-plumbing-34807
END:VEVENT

END:VCALENDAR
