BEGIN:VCALENDAR
VERSION:2.0
PRODID:-//ChamberMaster//Event Calendar 2.0//EN
METHOD:PUBLISH
X-PUBLISHED-TTL:P3D
REFRESH-INTERVAL:P3D
CALSCALE:GREGORIAN
BEGIN:VEVENT
DTSTART:20231102T210000Z
DTEND:20231102T220000Z
X-MICROSOFT-CDO-ALLDAYEVENT:FALSE
SUMMARY:2023 Ribbon Cutting - Toppers Pizza
DESCRIPTION:Come celebrate Toppers Pizza and the new mural
X-ALT-DESC;FMTTYPE=text/html:Come celebrate Toppers Pizza and the new mural
LOCATION:Toppers Pizza 406 Main Street East Menomonie\, WI 54751
UID:e.64.35268
SEQUENCE:3
DTSTAMP:20260419T123721Z
URL:https://menomonie-gzcms.preview.gochambermaster.com/events/details/2023-ribbon-cutting-toppers-pizza-35268
END:VEVENT

END:VCALENDAR
