BEGIN:VCALENDAR
VERSION:2.0
PRODID:-//ChamberMaster//Event Calendar 2.0//EN
METHOD:PUBLISH
X-PUBLISHED-TTL:P3D
REFRESH-INTERVAL:P3D
CALSCALE:GREGORIAN
BEGIN:VEVENT
DTSTART:20220625T140000Z
DTEND:20220625T190000Z
X-MICROSOFT-CDO-ALLDAYEVENT:FALSE
SUMMARY:21st Annual Garden Tour
DESCRIPTION:Tour 5 beautiful Dunn County gardens on the 21st Annual Stepping Stones' Garden Tour.\n\nEnjoy a stunning and relaxing day outdoors while supporting Stepping Stones' programs.\n\n\n\nBid on a variety of auction items online. Auction opens 9am\, Saturday\, June 18th\, and closes Saturday\, June 25th at 9pm. Click here to check it out!\nShop the Stepping Stones' Garden Market on June 23 (10-4)\, June 24 (10-4)\, and June 25 (9-2). Check out the variety of plants\, and garden items\, and purchase raffle tickets for the Nancy Schofield Aldo Leopold Garden Bench Raffle. Raffle tickets are $5/ea or 5 for $20. Tickets will be available for purchase at each of the gardens the day of the event as well. Bench designs are shown below.\n\nTo learn more about the history or the Aldo Leopold Bench project started by Nancy Schofield\, read the article here\, featured in our Winter newsletter.
X-ALT-DESC;FMTTYPE=text/html:<span style="color:rgb(43\, 43\, 43)\; font-family:merriweather\,times\,serif\; font-size:16px">Tour 5 beautiful Dunn County gardens on the 21st Annual Stepping Stones&rsquo\; Garden Tour.</span><br />\n<span style="color:rgb(43\, 43\, 43)\; font-family:merriweather\,times\,serif\; font-size:16px">Enjoy a stunning and relaxing&nbsp\;day outdoors while&nbsp\;supporting Stepping Stones&rsquo\; programs.</span><br />\n<br />\n<span style="color:rgb(43\, 43\, 43)\; font-family:merriweather\,times\,serif\; font-size:16px">Bid on a variety of auction items online. Auction opens 9am\, Saturday\, June 18th\, and closes Saturday\, June 25th at 9pm.&nbsp\;</span><a href="http://garden2022.givesmart.com/" style="box-sizing: inherit\; overflow-wrap: break-word\; color: rgb(0\, 0\, 0)\; text-decoration-line: none\; transition: all 0.2s ease 0s\; border-bottom: 1px solid\; font-family: Merriweather\, Times\, serif\; font-size: 16px\;">Click here</a><span style="color:rgb(43\, 43\, 43)\; font-family:merriweather\,times\,serif\; font-size:16px">&nbsp\;to check it out!</span>\n<p>Shop the Stepping Stones&rsquo\; Garden Market on June 23 (10-4)\, June 24 (10-4)\, and June 25 (9-2). Check out the variety of plants\, and garden items\, and purchase raffle tickets for the Nancy Schofield Aldo Leopold Garden Bench Raffle. Raffle tickets are $5/ea or 5 for $20. Tickets will be available for purchase at each of the gardens the day of the event as well. Bench designs are shown below.</p>\n\n<p>To learn more about the history or the Aldo Leopold Bench project started by Nancy Schofield\, read the article&nbsp\;<a href="https://www.steppingstonesdc.org/wp-content/uploads/2022/04/2022WinterNews-FINAL_reduced.pdf" style="box-sizing: inherit\; overflow-wrap: break-word\; background-color: transparent\; color: rgb(0\, 0\, 0)\; text-decoration-line: none\; transition: all 0.2s ease 0s\; border-bottom: 1px solid\;">here</a>\, featured in our Winter newsletter.</p>\n
LOCATION:
UID:e.64.33537
SEQUENCE:3
DTSTAMP:20260423T011229Z
URL:https://menomonie-gzcms.preview.gochambermaster.com/events/details/21st-annual-garden-tour-33537
END:VEVENT

END:VCALENDAR
