BEGIN:VCALENDAR
VERSION:2.0
PRODID:-//ChamberMaster//Event Calendar 2.0//EN
METHOD:PUBLISH
X-PUBLISHED-TTL:P3D
REFRESH-INTERVAL:P3D
CALSCALE:GREGORIAN
BEGIN:VEVENT
DTSTART:20231023T140000Z
DTEND:20231023T190000Z
X-MICROSOFT-CDO-ALLDAYEVENT:FALSE
SUMMARY:Aging Dunn Well
DESCRIPTION:Aging Dunn Well is a conference for family caregivers and professionals. This year we will have presentations on The Fish Approach to Dementia Care\, Levels of care\, and Dementia Live a dementia simulation
X-ALT-DESC;FMTTYPE=text/html:Aging Dunn Well is a conference for family caregivers and professionals. This year we will have presentations on The Fish Approach to Dementia Care\, Levels of care\, and Dementia Live a dementia simulation
LOCATION:Rassbach Heritage Museum - Holtby Hall 1820 John Russell Road Menomonie
UID:e.64.34839
SEQUENCE:3
DTSTAMP:20260419T175248Z
URL:https://menomonie-gzcms.preview.gochambermaster.com/events/details/aging-dunn-well-34839
END:VEVENT

END:VCALENDAR
