BEGIN:VCALENDAR
VERSION:2.0
PRODID:-//ChamberMaster//Event Calendar 2.0//EN
METHOD:PUBLISH
X-PUBLISHED-TTL:P3D
REFRESH-INTERVAL:P3D
CALSCALE:GREGORIAN
BEGIN:VEVENT
DTSTART:20191021T003000Z
DTEND:20191021T020000Z
X-MICROSOFT-CDO-ALLDAYEVENT:FALSE
SUMMARY:An Evening with Garrison Keillor
DESCRIPTION:Accompanied by gifted pianist and former "A Prairie Home Companion" music director Richard Dworsky\, radio legend Garrison Keillor regales audiences with classic folk and love songs\, poetry recitation from memory\, lighthearted banter\, observational comedy\, and yes perhaps even the latest "News from Lake Wobegon." "An Evening with Garrison Keillor" is likely to induce laughter\, spontaneous sing-a-longs\, mild nostalgia\, and gratitude for the time we have together.
X-ALT-DESC;FMTTYPE=text/html:Accompanied by gifted pianist and former &ldquo\;A Prairie Home Companion&rdquo\; music director Richard Dworsky\, radio legend Garrison Keillor regales audiences with classic folk and love songs\, poetry recitation from memory\, lighthearted banter\, observational comedy\, and yes&mdash\;perhaps even the latest &ldquo\;News from Lake Wobegon.&rdquo\; &ldquo\;An Evening with Garrison Keillor&rdquo\; is likely to induce laughter\, spontaneous sing-a-longs\, mild nostalgia\, and gratitude for the time we have together.
LOCATION:Mabel Tainter Theater
UID:e.64.26901
SEQUENCE:3
DTSTAMP:20260425T153859Z
URL:https://menomonie-gzcms.preview.gochambermaster.com/events/details/an-evening-with-garrison-keillor-26901
END:VEVENT

END:VCALENDAR
