BEGIN:VCALENDAR
VERSION:2.0
PRODID:-//ChamberMaster//Event Calendar 2.0//EN
METHOD:PUBLISH
X-PUBLISHED-TTL:P3D
REFRESH-INTERVAL:P3D
CALSCALE:GREGORIAN
BEGIN:VEVENT
DTSTART:20191005T003000Z
DTEND:20191005T020000Z
X-MICROSOFT-CDO-ALLDAYEVENT:FALSE
SUMMARY:An Evening with Meri Dean & Friends
DESCRIPTION:Jason and Melissa Kadinger are a husband and wife duet performing a wide array of genres\, ranging from jazz to olde Celtic\, from rock to indie\, from to folk to blues. With three decades of performance experience each\, it is the mission of Meri Dean to create and perform music that is beautiful\, diverse\, fun and technically proficient.
X-ALT-DESC;FMTTYPE=text/html:Jason and Melissa Kadinger are a husband and wife duet performing a wide array of genres\, ranging from jazz to olde Celtic\, from rock to indie\, from to folk to blues. With three decades of performance experience each\, it is the mission of Meri Dean to create and perform music that is beautiful\, diverse\, fun and technically proficient.
LOCATION:Mabel Tainter Theater
UID:e.64.26900
SEQUENCE:3
DTSTAMP:20260425T130906Z
URL:https://menomonie-gzcms.preview.gochambermaster.com/events/details/an-evening-with-meri-dean-friends-26900
END:VEVENT

END:VCALENDAR
