BEGIN:VCALENDAR
VERSION:2.0
PRODID:-//ChamberMaster//Event Calendar 2.0//EN
METHOD:PUBLISH
X-PUBLISHED-TTL:P3D
REFRESH-INTERVAL:P3D
CALSCALE:GREGORIAN
BEGIN:VEVENT
DTSTART:20190918T230000Z
DTEND:20190919T003000Z
X-MICROSOFT-CDO-ALLDAYEVENT:FALSE
SUMMARY:Art of Arranging - Autumn Botanics
DESCRIPTION:Come join us in making an arrangement inspired by autumn. Use lotus pods\, fluffy hydrangea\, tall grasses and feathery wheat stalks to create a charming fall arrangement. Then when let to dry it can be used as fall d cor for the next coming years!
X-ALT-DESC;FMTTYPE=text/html:Come join us in making an arrangement inspired by autumn. Use lotus pods\, fluffy hydrangea\, tall grasses and feathery wheat stalks to create a charming fall arrangement. Then when let to dry it can be used as fall d&eacute\;cor for the next coming years!
LOCATION:Lakeview Floral and Gifts
UID:e.64.26829
SEQUENCE:3
DTSTAMP:20260425T155148Z
URL:https://menomonie-gzcms.preview.gochambermaster.com/events/details/art-of-arranging-autumn-botanics-26829
END:VEVENT

END:VCALENDAR
