BEGIN:VCALENDAR
VERSION:2.0
PRODID:-//ChamberMaster//Event Calendar 2.0//EN
METHOD:PUBLISH
X-PUBLISHED-TTL:P3D
REFRESH-INTERVAL:P3D
CALSCALE:GREGORIAN
BEGIN:VEVENT
DTSTART:20190210T220000Z
DTEND:20190210T230000Z
X-MICROSOFT-CDO-ALLDAYEVENT:FALSE
SUMMARY:Beginner Yoga Series- 4 Class Series
DESCRIPTION:Start your Yoga Journey at Happy Apple! \n\n$38 for entire series. Limited to 15 participants.  \n\nSundays from 4pm - 5pm. Starts Sunday\, 2/10 and runs 2/17\, 2/24\, and 3/3.\n\nRegistration is required and available at: \n\nhttp://bit.ly/beginyouryoga\n\nThis 4 part movement-based series will break down the basics of some of the most common physical yoga postures (asanas) in workshop-style classes. We will also explore breathing techniques and how to marry breath with movement. We will learn from the beginner level and explore options to advance from there so you can choose your level and challenge yourself. Sara Norman will be leading and teaching this series of classes. \n\nYou will leave this series feeling more connected and confident in your practice. No experience necessary.
X-ALT-DESC;FMTTYPE=text/html:<span style="background-color:transparent\; color:rgb(29\, 33\, 41)\; font-family:helvetica\,arial\,sans-serif\; font-size:14px">Start your Yoga Journey at Happy Apple!&nbsp\;</span><br />\n<span style="background-color:transparent\; color:rgb(29\, 33\, 41)\; font-family:helvetica\,arial\,sans-serif\; font-size:14px">$38 for entire series. Limited to 15 participants.&nbsp\; </span><br />\n<span style="background-color:transparent\; color:rgb(29\, 33\, 41)\; font-family:helvetica\,arial\,sans-serif\; font-size:14px">Sundays from 4pm - 5pm. Starts Sunday\, 2/10 and runs 2/17\, 2/24\, and 3/3.<br />\nRegistration is required and available at: </span><br />\n<a href="https://bit.ly/beginyouryoga?fbclid=IwAR3PROaSOOCilzReL21WN7h6ELnyLpKNZC8xeJSCExJJmHI4CgmHUx9ZZzs" rel="nofollow" style="background-color: transparent\; color: rgb(54\, 88\, 153)\; cursor: pointer\; font-family: Helvetica\,Arial\,sans-serif\; font-size: 14px\; font-style: normal\; font-variant: normal\; font-weight: 400\; letter-spacing: normal\; orphans: 2\; text-align: left\; text-decoration: none\; text-indent: 0px\; text-transform: none\; -webkit-text-stroke-width: 0px\; white-space: pre-wrap\; word-spacing: 0px\;" target="_blank">http://bit.ly/beginyouryoga</a><br />\n<span style="background-color:transparent\; color:rgb(29\, 33\, 41)\; font-family:helvetica\,arial\,sans-serif\; font-size:14px">This 4 part movement-based series will break down the basics of some of the most common physical yoga postures (asanas) in workshop-style classes. We will also explore breathing techniques and how to marry breath with movement. We will learn from the beginner level and explore options to advance from there so you can choose your level and challenge yourself. Sara Norman will be leading and teaching this series of classes. </span><br />\n<span style="background-color:transparent\; color:rgb(29\, 33\, 41)\; font-family:helvetica\,arial\,sans-serif\; font-size:14px">You will leave this series feeling more connected and confident in your practice. No experience necessary.</span>
LOCATION:Happy Apple Therapy Center 436 Main Street East Menomonie\, WI 54751 715-309-4335
UID:e.64.26576
SEQUENCE:3
DTSTAMP:20260426T035338Z
URL:https://menomonie-gzcms.preview.gochambermaster.com/events/details/beginner-yoga-series-4-class-series-26576
END:VEVENT

END:VCALENDAR
