BEGIN:VCALENDAR
VERSION:2.0
PRODID:-//ChamberMaster//Event Calendar 2.0//EN
METHOD:PUBLISH
X-PUBLISHED-TTL:P3D
REFRESH-INTERVAL:P3D
CALSCALE:GREGORIAN
BEGIN:VEVENT
DTSTART:20210717T000000Z
DTEND:20210717T010000Z
X-MICROSOFT-CDO-ALLDAYEVENT:FALSE
SUMMARY:Beowulf Live Reading
DESCRIPTION:John Heimbuch is performing Charlie Bethel's popular one-man Beowulf at Brewery Nonic on Friday\, July 16 at 7:00pm. This faithful and accessible adaptation of this classic Old English poem about a warrior king and some famous monsters\, emphasizes the wit\, vigor\, and meaty language of the original Anglo-Saxon epic.
X-ALT-DESC;FMTTYPE=text/html:John Heimbuch is performing Charlie Bethel&rsquo\;s popular one-man Beowulf at Brewery Nonic on Friday\, July 16 at 7:00pm. This faithful and accessible adaptation of this classic Old English poem about a warrior king and some famous monsters\, emphasizes the wit\, vigor\, and meaty language of the original Anglo-Saxon epic.
LOCATION:Brewery Nonic 621 4th St. W. Menomonie WI\, 54751
UID:e.64.32711
SEQUENCE:3
DTSTAMP:20260423T174333Z
URL:https://menomonie-gzcms.preview.gochambermaster.com/events/details/beowulf-live-reading-32711
END:VEVENT

END:VCALENDAR
