BEGIN:VCALENDAR
VERSION:2.0
PRODID:-//ChamberMaster//Event Calendar 2.0//EN
METHOD:PUBLISH
X-PUBLISHED-TTL:P3D
REFRESH-INTERVAL:P3D
CALSCALE:GREGORIAN
BEGIN:VEVENT
DTSTART;VALUE=DATE:20201126
DTEND;VALUE=DATE:20201130
TRANSP:TRANSPARENT
X-MICROSOFT-CDO-ALLDAYEVENT:TRUE
SUMMARY:Black Friday
DESCRIPTION:Fleet Farm's Big 3 - Day Event! November 26-28\n\nThursday - Shop online for hot deals at Fleetfarm.com store closed for Thanksgiving!\n\nFriday - Doors open at 5am! \n\nSaturday - Shop in store and online at Fleetfarm.com!\n\nplus\, get early access online 8pm Wednesday!\n\n\n\nSuper Saturday & Sunday Sale November 28th and 29th
X-ALT-DESC;FMTTYPE=text/html:Fleet Farm&#39\;s Big 3 - Day Event! November 26-28<br />\nThursday - Shop online for hot deals at Fleetfarm.com store closed for Thanksgiving!<br />\nFriday - Doors open at 5am!&nbsp\;<br />\nSaturday - Shop in store and online at Fleetfarm.com!<br />\nplus\, get early access online 8pm Wednesday!<br />\n<br />\nSuper Saturday &amp\; Sunday Sale November 28th and 29th&nbsp\;
LOCATION:Menomonie Fleet Farm 2003 US HWY 12W Menomonie\, WI 54751
UID:e.64.30745
SEQUENCE:3
DTSTAMP:20260424T071339Z
URL:https://menomonie-gzcms.preview.gochambermaster.com/events/details/black-friday-30745
END:VEVENT

END:VCALENDAR
