BEGIN:VCALENDAR
VERSION:2.0
PRODID:-//ChamberMaster//Event Calendar 2.0//EN
METHOD:PUBLISH
X-PUBLISHED-TTL:P3D
REFRESH-INTERVAL:P3D
CALSCALE:GREGORIAN
BEGIN:VEVENT
DTSTART:20230420T210000Z
DTEND:20230421T020000Z
X-MICROSOFT-CDO-ALLDAYEVENT:FALSE
SUMMARY:Boys & Girls Clubs 2023 Youth of the Year Gala
DESCRIPTION:This is an event to celebrate the Boys & Girls Clubs of the Greater Chippewa Valley's Youth of the Year.  \n\nThe primary purpose of this event is to give our youth a larger platform to share their story\, create awareness\, and raise funds to support the youth at our local Clubs in  Altoona\, Black River Falls\,  Chippewa Falls\, Eau Claire\, and Menomonie.   \n\n The evening will include a social hour\, raffle\, live art auction\, a fabulous dinner\, and the opportunity to hear from youth in all 5 communities.
X-ALT-DESC;FMTTYPE=text/html:<span style="color:black"><span style="font-family:calibri"><span style="font-size:10.0pt">This is an event to celebrate the Boys &amp\; Girls Clubs of the Greater&nbsp\;Chippewa Valley&rsquo\;s Youth of the&nbsp\;Year.&nbsp\; </span></span></span><br />\n<span style="color:black"><span style="font-family:calibri"><span style="font-size:10.0pt">The primary purpose of this event is to give our youth a larger platform to share their&nbsp\;story\, create awareness\, and raise funds to support the youth at our local Clubs in&nbsp\;&nbsp\;Altoona\, Black River&nbsp\;Falls\,&nbsp\; Chippewa Falls\,&nbsp\;Eau&nbsp\;Claire\, and Menomonie.&nbsp\;&nbsp\;&nbsp\;</span></span></span><br />\n&nbsp\;<strong><span style="color:black"><span style="font-family:calibri"><span style="font-size:10.0pt">The evening will include&nbsp\;</span></span></span></strong><span style="color:black"><span style="font-family:calibri"><span style="font-size:10.0pt">a social hour\, raffle\, live art auction\, a fabulous dinner\, and the&nbsp\;opportunity to hear from youth in all 5 communities.&nbsp\;</span></span></span>
LOCATION:Florian Gardens\, Eau Claire\, WI
UID:e.64.34612
SEQUENCE:3
DTSTAMP:20260420T134751Z
URL:https://menomonie-gzcms.preview.gochambermaster.com/events/details/boys-girls-clubs-2023-youth-of-the-year-gala-34612
END:VEVENT

END:VCALENDAR
