BEGIN:VCALENDAR
VERSION:2.0
PRODID:-//ChamberMaster//Event Calendar 2.0//EN
METHOD:PUBLISH
X-PUBLISHED-TTL:P3D
REFRESH-INTERVAL:P3D
CALSCALE:GREGORIAN
BEGIN:VEVENT
DTSTART:20221011T190000Z
DTEND:20221011T200000Z
X-MICROSOFT-CDO-ALLDAYEVENT:FALSE
SUMMARY:Brain Gains Series - Dementia 101
DESCRIPTION:Join us in the library meeting room for a 2 class Brain Gains series. Brain Health 101 is on September 20th at 2pm and Dementia 101 is on October 11th at 2pm.\n\nThis program is a partnership between the library and the ADRC and will be presented by Carla Berscheit\, Dementia Care Specialist for the Aging and Disability Resource Center of Dunn County.
X-ALT-DESC;FMTTYPE=text/html:Join us in the library meeting room for a 2 class Brain Gains series. Brain Health 101 is on September 20th at 2pm and Dementia 101 is on October 11th at 2pm.\n\nThis program is a partnership between the library and the ADRC and will be presented by Carla Berscheit\, Dementia Care Specialist for the Aging and Disability Resource Center of Dunn County.
LOCATION:Menomonie Public Library 600 Wolske Bay Road Menomonie\, WI 54751
UID:e.64.33572
SEQUENCE:3
DTSTAMP:20260421T142603Z
URL:https://menomonie-gzcms.preview.gochambermaster.com/events/details/brain-gains-series-dementia-101-33572
END:VEVENT

END:VCALENDAR
