BEGIN:VCALENDAR
VERSION:2.0
PRODID:-//ChamberMaster//Event Calendar 2.0//EN
METHOD:PUBLISH
X-PUBLISHED-TTL:P3D
REFRESH-INTERVAL:P3D
CALSCALE:GREGORIAN
BEGIN:VEVENT
DTSTART:20220625T160000Z
DTEND:20220625T200000Z
X-MICROSOFT-CDO-ALLDAYEVENT:FALSE
SUMMARY:Brewery Dogs of Menomonie Photo Days!
DESCRIPTION:Come out to Brewery Nonic June 5\, 18 or 25th for the Brewery Dogs of Menomonie Photo Sessions! Pre-registration for sessions is $15 and you will receive digital copies of the photos from your session. Photos will be voted on at Brewery Nonic from June 29 - July 3 and the 12 photos with the most votes will be featured in the 2023 Brewery Dogs of Menomonie calendar.
X-ALT-DESC;FMTTYPE=text/html:<span style="font-family:montserrat\,-apple-system\,blinkmacsystemfont\,segoe ui\,roboto\,sans-serif\; font-size:14px">Come out to Brewery Nonic June 5\, 18 or 25th for the Brewery Dogs of Menomonie Photo Sessions! Pre-registration for sessions is $15 and you will receive digital copies of the photos from your session. Photos will be voted on at Brewery Nonic from June 29 - July 3 and the 12 photos with the most votes will be featured in the 2023 Brewery Dogs of Menomonie calendar.</span>
LOCATION:brewery nonic
UID:e.64.33538
SEQUENCE:3
DTSTAMP:20260422T063303Z
URL:https://menomonie-gzcms.preview.gochambermaster.com/events/details/brewery-dogs-of-menomonie-photo-days-33538
END:VEVENT

END:VCALENDAR
