BEGIN:VCALENDAR
VERSION:2.0
PRODID:-//ChamberMaster//Event Calendar 2.0//EN
METHOD:PUBLISH
X-PUBLISHED-TTL:P3D
REFRESH-INTERVAL:P3D
CALSCALE:GREGORIAN
BEGIN:VEVENT
DTSTART:20190922T190000Z
DTEND:20190922T203000Z
X-MICROSOFT-CDO-ALLDAYEVENT:FALSE
SUMMARY:Broadway for Two - Karen Wilber & Seth Berrier
DESCRIPTION:Local performing artists\, Seth Berrier and Karen Wilber have joined together to create a dazzling\, heart-warming and fun-filled musical program of their favorite Broadway duets and solos. The show will include hits from some of the world's most famous musicals such as Candide\, Sweeney Todd\, Annie\, Phantom of the Opera\, and more!
X-ALT-DESC;FMTTYPE=text/html:Local performing artists\, Seth Berrier and Karen Wilber have joined together to create a dazzling\, heart-warming and fun-filled musical program of their favorite Broadway duets and solos. The show will include hits from some of the world&#39\;s most famous musicals such as Candide\, Sweeney Todd\, Annie\, Phantom of the Opera\, and more!
LOCATION:Mabel Tainter Theater
UID:e.64.26899
SEQUENCE:3
DTSTAMP:20260425T195659Z
URL:https://menomonie-gzcms.preview.gochambermaster.com/events/details/broadway-for-two-karen-wilber-seth-berrier-26899
END:VEVENT

END:VCALENDAR
