BEGIN:VCALENDAR
VERSION:2.0
PRODID:-//ChamberMaster//Event Calendar 2.0//EN
METHOD:PUBLISH
X-PUBLISHED-TTL:P3D
REFRESH-INTERVAL:P3D
CALSCALE:GREGORIAN
BEGIN:VEVENT
DTSTART:20220715T220000Z
DTEND:20220716T030000Z
X-MICROSOFT-CDO-ALLDAYEVENT:FALSE
SUMMARY:Busch Light Showdown at Red Cedar Speedway
DESCRIPTION:Come out early to enjoy $2 Busch Light happy hour! 5-7 PM\n\nSponsored by: Dean n' Sue's Bar & Grill and Design Built Structures\n\n \n\n\nGrandstands open at 5 PM\n\nRacing at 7 PM\n\nAll 6 classes racing!
X-ALT-DESC;FMTTYPE=text/html:<div>\n<div>Come out early to enjoy $2 Busch Light happy hour! 5-7 PM</div>\n\n<div>Sponsored by: Dean n&#39\; Sue&#39\;s Bar &amp\; Grill and Design Built Structures<br />\n&nbsp\;</div>\n</div>\n\n<div>Grandstands open at 5 PM<br />\nRacing at 7 PM<br />\nAll 6 classes racing!</div>\n
LOCATION:Red Cedar Speedway
UID:e.64.33502
SEQUENCE:3
DTSTAMP:20260422T022647Z
URL:https://menomonie-gzcms.preview.gochambermaster.com/events/details/busch-light-showdown-at-red-cedar-speedway-33502
END:VEVENT

END:VCALENDAR
