BEGIN:VCALENDAR
VERSION:2.0
PRODID:-//ChamberMaster//Event Calendar 2.0//EN
METHOD:PUBLISH
X-PUBLISHED-TTL:P3D
REFRESH-INTERVAL:P3D
CALSCALE:GREGORIAN
BEGIN:VEVENT
DTSTART:20190217T180000Z
DTEND:20190217T203000Z
X-MICROSOFT-CDO-ALLDAYEVENT:FALSE
SUMMARY:Bye-Bye Winter Blues
DESCRIPTION:Come out to Beaver Creek for an afternoon of chasing away the winter blues! The program will start with a 45-minute yoga session designed to relax and renew. Then experience some herbal teas\, sample tinctures for mood support\, herbal foot soaks and chair massages. Dress in comfortable clothes and be ready to chase away those winter blues. Herbal preparations by Kerri Keirnan of River Prairie Apothecary.
X-ALT-DESC;FMTTYPE=text/html:Come out to Beaver Creek for an afternoon of chasing away the winter blues! The program will start with a 45-minute yoga session designed to relax and renew. Then experience some herbal teas\, sample tinctures for mood support\, herbal foot soaks and chair massages. Dress in comfortable clothes and be ready to chase away those winter blues. Herbal preparations by Kerri Keirnan of River Prairie Apothecary.
LOCATION:Beaver Creek Reserve Wise Nature Center
UID:e.64.26555
SEQUENCE:3
DTSTAMP:20260426T035207Z
URL:https://menomonie-gzcms.preview.gochambermaster.com/events/details/bye-bye-winter-blues-26555
END:VEVENT

END:VCALENDAR
