BEGIN:VCALENDAR
VERSION:2.0
PRODID:-//ChamberMaster//Event Calendar 2.0//EN
METHOD:PUBLISH
X-PUBLISHED-TTL:P3D
REFRESH-INTERVAL:P3D
CALSCALE:GREGORIAN
BEGIN:VEVENT
DTSTART:20190216T000000Z
DTEND:20190216T030000Z
X-MICROSOFT-CDO-ALLDAYEVENT:FALSE
SUMMARY:Candlelight Snowshoe Hike
DESCRIPTION:Candles and moonlight will illuminate the way as you explore the trails on snowshoes. A warm campfire awaits you as you finish the trail. Snowshoes will be available to rent for one of the two shifts\, either 6 until 7:30 p.m. or 7:30 until 9 p.m. If you have your own snowshoes\, you may register for either session. Please be sure to indicate how many children and adults are in your party\, and the number of snowshoe rentals\, adult and youth that are needed   a snowshoe sizing guide is available for online registrations. Please note that rental equipment is limited and may sell out. Prices for snowshoes and program are per person. If the weather does not provide enough snow to allow for safe snowshoeing\, then you will be able to hike the trails. This decision will be made by the Reserve staff. Registration and full payment due by February 13\, 2019.
X-ALT-DESC;FMTTYPE=text/html:Candles and moonlight will illuminate the way as you explore the trails on snowshoes. A warm campfire awaits you as you finish the trail. Snowshoes will be available to rent for one of the two shifts\, either 6 until 7:30 p.m. or 7:30 until 9 p.m. If you have your own snowshoes\, you may register for either session. Please be sure to indicate how many children and adults are in your party\, and the number of snowshoe rentals\, adult and youth that are needed &ndash\; a snowshoe sizing guide is available for online registrations. Please note that rental equipment is limited and may sell out. Prices for snowshoes and program are per person. If the weather does not provide enough snow to allow for safe snowshoeing\, then you will be able to hike the trails. This decision will be made by the Reserve staff. Registration and full payment due by February 13\, 2019.
LOCATION:Beaver Creek Reserve Wise Nature Center S1 County Hwy K Fall Creek\, WI 54742
UID:e.64.26421
SEQUENCE:3
DTSTAMP:20260426T035426Z
URL:https://menomonie-gzcms.preview.gochambermaster.com/events/details/candlelight-snowshoe-hike-02-15-2019-26421
END:VEVENT

END:VCALENDAR
