BEGIN:VCALENDAR
VERSION:2.0
PRODID:-//ChamberMaster//Event Calendar 2.0//EN
METHOD:PUBLISH
X-PUBLISHED-TTL:P3D
REFRESH-INTERVAL:P3D
CALSCALE:GREGORIAN
BEGIN:VEVENT
DTSTART:20191001T230000Z
DTEND:20191002T000000Z
X-MICROSOFT-CDO-ALLDAYEVENT:FALSE
SUMMARY:CHILDREN'S ART CLUB
DESCRIPTION:Every Tuesday evening on the UW-Stout campus throughout the school year\, Art Education students\, preparing as future teachers\, are teaching FREE art classes to students in grades K-8. There is no charge for supplies.
X-ALT-DESC;FMTTYPE=text/html:Every Tuesday evening on the UW-Stout campus throughout the school year\, Art Education students\, preparing as future teachers\, are teaching FREE art classes to students in grades K-8. There is no charge for supplies.
LOCATION:UW-Stout Library - 2nd floor - room 211
UID:e.64.27048
SEQUENCE:3
DTSTAMP:20260425T153941Z
URL:https://menomonie-gzcms.preview.gochambermaster.com/events/details/children-s-art-club-10-01-2019-27048
END:VEVENT

END:VCALENDAR
