BEGIN:VCALENDAR
VERSION:2.0
PRODID:-//ChamberMaster//Event Calendar 2.0//EN
METHOD:PUBLISH
X-PUBLISHED-TTL:P3D
REFRESH-INTERVAL:P3D
CALSCALE:GREGORIAN
BEGIN:VEVENT
DTSTART:20190517T140000Z
DTEND:20190517T230000Z
X-MICROSOFT-CDO-ALLDAYEVENT:FALSE
SUMMARY:Church-Wide Garage Sale
DESCRIPTION:Stop by to check out our church-wide garage sale May 16-17\, 9am -6pm. The sale will include clothes\, books\, kitchen items\, toys\, sporting goods\, etc.\n\n\n\nProceeds will be going to support our high school group going to the LIFE Conference in Florida this July. LIFE is a youth conference that is held every three years.
X-ALT-DESC;FMTTYPE=text/html:Stop by to check out our church-wide garage sale May 16-17\, 9am -6pm. The sale will include clothes\, books\, kitchen items\, toys\, sporting goods\, etc.<br />\n<br />\nProceeds will be going to support our high school group going to the LIFE Conference in Florida this July. LIFE is a youth conference that is held every three years.
LOCATION:Menomonie Alliance Church Gym 502 21st St N Menomonie\, WI 54751
UID:e.64.26734
SEQUENCE:3
DTSTAMP:20260425T222857Z
URL:https://menomonie-gzcms.preview.gochambermaster.com/events/details/church-wide-garage-sale-05-17-2019-26734
END:VEVENT

END:VCALENDAR
