BEGIN:VCALENDAR
VERSION:2.0
PRODID:-//ChamberMaster//Event Calendar 2.0//EN
METHOD:PUBLISH
X-PUBLISHED-TTL:P3D
REFRESH-INTERVAL:P3D
CALSCALE:GREGORIAN
BEGIN:VEVENT
DTSTART:20190919T210000Z
DTEND:20190920T000000Z
X-MICROSOFT-CDO-ALLDAYEVENT:FALSE
SUMMARY:Clean Sweep Event
DESCRIPTION:Dunn County Solid Waste & Recycling will be holding their Annual Clean Sweep Event on Thursday\, 9/19/19 from 4:00 PM to 7:00 PM at the Dunn County Transfer Station & Recycling Center\, E3900 State Rd 29\, Menomonie. Households may dispose of hazardous chemicals\, etc.\, for free at this event. Fees apply to latex paint and bulbs. Contact 715-232-4017 for more information.
X-ALT-DESC;FMTTYPE=text/html:Dunn County Solid Waste &amp\; Recycling will be holding their Annual Clean Sweep Event on Thursday\, 9/19/19 from 4:00 PM to 7:00 PM at the Dunn County Transfer Station &amp\; Recycling Center\, E3900 State Rd 29\, Menomonie. Households may dispose of hazardous chemicals\, etc.\, for free at this event. Fees apply to latex paint and bulbs. Contact 715-232-4017 for more information.
LOCATION:Dunn County Transfer Station & Recycling Center\, E3900 State Rd 29\, Menomonie\, WI 54751
UID:e.64.27088
SEQUENCE:3
DTSTAMP:20260425T153752Z
URL:https://menomonie-gzcms.preview.gochambermaster.com/events/details/clean-sweep-event-27088
END:VEVENT

END:VCALENDAR
