BEGIN:VCALENDAR
VERSION:2.0
PRODID:-//ChamberMaster//Event Calendar 2.0//EN
METHOD:PUBLISH
X-PUBLISHED-TTL:P3D
REFRESH-INTERVAL:P3D
CALSCALE:GREGORIAN
BEGIN:VEVENT
DTSTART:20211029T000000Z
DTEND:20211029T013000Z
X-MICROSOFT-CDO-ALLDAYEVENT:FALSE
SUMMARY:Coal\, Gas and Public Health: On the Electric Sector & Environmental Justice (online)
DESCRIPTION:Collaborative event with partner organizations It is generally well known that coal generation has a negative impact on public health and wellbeing. As utilities try to make the case for gas\, public health and climate advocates are pushing back to stop another harmful wave of fossil fuel infrastructure. Join this event to learn about the connections between our electric sector\, justice and equity\, and public health. ------------------------------ From accessibility of public lands to health impacts of burning fossil fuels\, examples of environmental injustice are deeply woven into each of the issues that we organize around. To examine these connections\, many parts of the Sierra Club in Wisconsin are coming together to organize an Environmental Justice Event Series beginning this fall. We hope that these events can provide an opportunity to explore the inequities rooted within these issues and help shine a light on the critical environmental justice components that exist in our work. Hosted by the Sierra Club Wisconsin
X-ALT-DESC;FMTTYPE=text/html:Collaborative event with partner organizations It is generally well known that coal generation has a negative impact on public health and wellbeing. As utilities try to make the case for gas\, public health and climate advocates are pushing back to stop another harmful wave of fossil fuel infrastructure. Join this event to learn about the connections between our electric sector\, justice and equity\, and public health. ------------------------------ From accessibility of public lands to health impacts of burning fossil fuels\, examples of environmental injustice are deeply woven into each of the issues that we organize around. To examine these connections\, many parts of the Sierra Club in Wisconsin are coming together to organize an Environmental Justice Event Series beginning this fall. We hope that these events can provide an opportunity to explore the inequities rooted within these issues and help shine a light on the critical environmental justice components that exist in our work. Hosted by the Sierra Club Wisconsin
LOCATION:Virtual\, Register @ https://act.sierraclub.org/events/details?formcampaignid=7013q000002FNQsAAO&mapLinkHref=
UID:e.64.32886
SEQUENCE:3
DTSTAMP:20260423T030154Z
URL:https://menomonie-gzcms.preview.gochambermaster.com/events/details/coal-gas-and-public-health-on-the-electric-sector-environmental-justice-online-32886
END:VEVENT

END:VCALENDAR
