BEGIN:VCALENDAR
VERSION:2.0
PRODID:-//ChamberMaster//Event Calendar 2.0//EN
METHOD:PUBLISH
X-PUBLISHED-TTL:P3D
REFRESH-INTERVAL:P3D
CALSCALE:GREGORIAN
BEGIN:VEVENT
DTSTART:20210716T150000Z
DTEND:20210716T160000Z
X-MICROSOFT-CDO-ALLDAYEVENT:FALSE
SUMMARY:Coffee & Commerce Nonprofit Edition
DESCRIPTION:Are you thirsty for some chat and connection?\n\nNonprofit professionals are invited to share ideas\, meet and greet other nonprofit leaders\, inspire new ways to solve challenges\, create a culture of collaboration and build deeper connections for a better understanding of our community.\n\n\n\nCoffee and light refreshments are provided: special thank you to Bridge to Hope            \n\n\n\nThank you to the sponsors:  Xcel Energy and Marshfield Clinic Health System
X-ALT-DESC;FMTTYPE=text/html:Are you thirsty for some chat and connection?<br />\nNonprofit professionals are invited to share ideas\, meet and greet other nonprofit leaders\, inspire new ways to solve challenges\, create a culture of collaboration and build deeper connections for a better understanding of our community.<br />\n<br />\nCoffee and light refreshments are provided: special thank you to <a href="https://www.thebridgetohope.org/">Bridge to Hope</a>&nbsp\;&nbsp\;&nbsp\;&nbsp\;&nbsp\;&nbsp\;&nbsp\;&nbsp\;&nbsp\;&nbsp\;&nbsp\;&nbsp\;<br />\n<br />\nThank you to the sponsors:&nbsp\; <a href="https://wi.my.xcelenergy.com/s/">Xcel Energy </a>and <a href="https://www.marshfieldclinic.org/locations/marshfield-medical-center/outpatient-services">Marshfield Clinic Health System</a>
LOCATION:Menomonie Area Chamber & Visitor Center 1125 N Broadway Street\, Suite 3 Menomonie WI 54751\,
UID:e.64.32576
SEQUENCE:3
DTSTAMP:20260423T173200Z
URL:https://menomonie-gzcms.preview.gochambermaster.com/events/details/coffee-commerce-nonprofit-edition-32576
END:VEVENT

END:VCALENDAR
