BEGIN:VCALENDAR
VERSION:2.0
PRODID:-//ChamberMaster//Event Calendar 2.0//EN
METHOD:PUBLISH
X-PUBLISHED-TTL:P3D
REFRESH-INTERVAL:P3D
CALSCALE:GREGORIAN
BEGIN:VEVENT
DTSTART:20201108T200000Z
DTEND:20201108T213000Z
X-MICROSOFT-CDO-ALLDAYEVENT:FALSE
SUMMARY:Collecting Oral Stories from Veterans
DESCRIPTION:Luke Sprague\, Oral Historian from the Wisconsin Veterans Museum will share his expertise on the importance of collecting oral histories from veterans\, and best practices for those who wish to record veterans' stories.
X-ALT-DESC;FMTTYPE=text/html:<div class="kvgmc6g5 cxmmr5t8 oygrvhab hcukyx3x c1et5uql" style="overflow-wrap: break-word\; margin: 0px\; font-family: &quot\;Segoe UI Historic&quot\;\, &quot\;Segoe UI&quot\;\, Helvetica\, Arial\, sans-serif\; color: rgb(5\, 5\, 5)\; font-size: 15px\;">Luke Sprague\, Oral Historian from the Wisconsin Veterans Museum will share his expertise on the importance of collecting oral histories from veterans\, and best practices for those who wish to record veterans&rsquo\; stories.</div>\n\n<div class="o9v6fnle cxmmr5t8 oygrvhab hcukyx3x c1et5uql" style="overflow-wrap: break-word\; margin: 0.5em 0px 0px\; font-family: &quot\;Segoe UI Historic&quot\;\, &quot\;Segoe UI&quot\;\, Helvetica\, Arial\, sans-serif\; color: rgb(5\, 5\, 5)\; font-size: 15px\;">&nbsp\;</div>\n
LOCATION:Click on the link at 1:55 p.m. five minutes before the presentation begins\, and you will be admitted to the zoom meeting. https://us02web.zoom.us/j/87019081385
UID:e.64.30728
SEQUENCE:3
DTSTAMP:20260424T101413Z
URL:https://menomonie-gzcms.preview.gochambermaster.com/events/details/collecting-oral-stories-from-veterans-30728
END:VEVENT

END:VCALENDAR
