BEGIN:VCALENDAR
VERSION:2.0
PRODID:-//ChamberMaster//Event Calendar 2.0//EN
METHOD:PUBLISH
X-PUBLISHED-TTL:P3D
REFRESH-INTERVAL:P3D
CALSCALE:GREGORIAN
BEGIN:VEVENT
DTSTART;VALUE=DATE:20220728
DTEND;VALUE=DATE:20220729
TRANSP:TRANSPARENT
X-MICROSOFT-CDO-ALLDAYEVENT:TRUE
SUMMARY:Dave Shackleton Memorial Super Stock Race
DESCRIPTION:Fast Lane Northland Super Stock Series first ever visit to Red Cedar Speedway! \n\nCome early to enjoy the Dunn County Fair.\n\nDave Shackleton Memorial Super Stock Race + Midwest Mods\, Hornets\, Mechanics Race and Street Drags\n\nSponsored by: Shackleton Tree Service and TMS Auto
X-ALT-DESC;FMTTYPE=text/html:<div>Fast Lane Northland Super Stock Series first ever visit to Red Cedar Speedway!&nbsp\;</div>\n\n<div>Come early to enjoy the Dunn County Fair.</div>\n\n<div>Dave Shackleton Memorial Super Stock Race + Midwest Mods\, Hornets\, Mechanics Race and Street Drags</div>\n\n<div>Sponsored by: Shackleton Tree Service and TMS Auto</div>\n
LOCATION:Red Cedar Speedway Menomonie\, WI 54751
UID:e.64.33417
SEQUENCE:3
DTSTAMP:20260422T125445Z
URL:https://menomonie-gzcms.preview.gochambermaster.com/events/details/dave-shackleton-memorial-super-stock-race-33417
END:VEVENT

END:VCALENDAR
