BEGIN:VCALENDAR
VERSION:2.0
PRODID:-//ChamberMaster//Event Calendar 2.0//EN
METHOD:PUBLISH
X-PUBLISHED-TTL:P3D
REFRESH-INTERVAL:P3D
CALSCALE:GREGORIAN
BEGIN:VEVENT
DTSTART:20190427T140000Z
DTEND:20190427T200000Z
X-MICROSOFT-CDO-ALLDAYEVENT:FALSE
SUMMARY:DCHS Rummage Sale
DESCRIPTION:Come on out to the Veteran's Center for the annual DCHS Spring Rummage Sale. This is a huge sale with something for everyone!
X-ALT-DESC;FMTTYPE=text/html:Come on out to the Veteran&#39\;s Center for the annual DCHS Spring Rummage Sale. This is a huge sale with something for everyone!
LOCATION:Menomonie Veteran's Center/Foxhole Bar
UID:e.64.26563
SEQUENCE:3
DTSTAMP:20260426T011541Z
URL:https://menomonie-gzcms.preview.gochambermaster.com/events/details/dchs-rummage-sale-04-27-2019-26563
END:VEVENT

END:VCALENDAR
