BEGIN:VCALENDAR
VERSION:2.0
PRODID:-//ChamberMaster//Event Calendar 2.0//EN
METHOD:PUBLISH
X-PUBLISHED-TTL:P3D
REFRESH-INTERVAL:P3D
CALSCALE:GREGORIAN
BEGIN:VEVENT
DTSTART:20190426T140000Z
DTEND:20190426T230000Z
X-MICROSOFT-CDO-ALLDAYEVENT:FALSE
SUMMARY:DCHS Rummage Sale
DESCRIPTION:Come out to the Veteran's Center for the annual DCHS Spring Rummage Sale. This is a huge event with something for everyone!
X-ALT-DESC;FMTTYPE=text/html:Come out to the Veteran&#39\;s Center for the annual DCHS Spring Rummage Sale. This is a huge event with something for everyone!
LOCATION:Menomonie Veteran's Center/Foxhole Bar
UID:e.64.26561
SEQUENCE:3
DTSTAMP:20260426T022411Z
URL:https://menomonie-gzcms.preview.gochambermaster.com/events/details/dchs-rummage-sale-26561
END:VEVENT

END:VCALENDAR
