BEGIN:VCALENDAR
VERSION:2.0
PRODID:-//ChamberMaster//Event Calendar 2.0//EN
METHOD:PUBLISH
X-PUBLISHED-TTL:P3D
REFRESH-INTERVAL:P3D
CALSCALE:GREGORIAN
BEGIN:VEVENT
DTSTART:20210622T210000Z
DTEND:20210622T220000Z
X-MICROSOFT-CDO-ALLDAYEVENT:FALSE
SUMMARY:Dementia 101
DESCRIPTION:Have you wondered.... What is dementia? What is normal brain aging? How do I support someone with dementia? I will provide answers to all of these questions and more.
X-ALT-DESC;FMTTYPE=text/html:Have you wondered.... What is dementia? What is normal brain aging? How do I support someone with dementia? I will provide answers to all of these questions and more.
LOCATION:virtually
UID:e.64.32221
SEQUENCE:3
DTSTAMP:20260423T170846Z
URL:https://menomonie-gzcms.preview.gochambermaster.com/events/details/dementia-101-32221
END:VEVENT

END:VCALENDAR
