BEGIN:VCALENDAR
VERSION:2.0
PRODID:-//ChamberMaster//Event Calendar 2.0//EN
METHOD:PUBLISH
X-PUBLISHED-TTL:P3D
REFRESH-INTERVAL:P3D
CALSCALE:GREGORIAN
BEGIN:VEVENT
DTSTART:20230422T163000Z
DTEND:20230422T210000Z
X-MICROSOFT-CDO-ALLDAYEVENT:FALSE
SUMMARY:Designer Purse Bingo
DESCRIPTION:Designer Purse Bingo is a fundraiser that allows attendees to play 14 rounds of bingo for a chance to win a designer purse from Michael Kors\, Kate Spade\, or Coach. Raffle's will be available for guests to purchase tickets for a chance to win\, along with other games they can take part in during the event. The money raise from this fundraiser goes directly to our client services here at The Bridge to Hope which could help someone with getting birth certificates\, social security cards\, a deposit for rent\, car repair assistance\, and any other financial support that clients could need during their journey to healing from abuse. \n\n\n\nA limited number of tickets will be sold for this event. Tickets are $40 plus a $5 fee through Event Brite. Tickets can be purchased at:\n\nhttps://www.eventbrite.com/e/designer-purse-bingo-tickets-519133591547?aff=ebdssbdestsearch&fbclid=IwAR1v_NQoYn45aFyrLkmBGDAQcRqwKmCwgsQhPxjcwqQ54NC4F8bhJS7g8uY
X-ALT-DESC;FMTTYPE=text/html:Designer Purse Bingo is a fundraiser that allows attendees to play 14 rounds of bingo for a chance to win a designer purse from Michael Kors\, Kate Spade\, or Coach. Raffle&#39\;s will be available for guests to purchase tickets for a chance to win\, along with other games they can take part in during the event. The money raise from this fundraiser goes directly to our client services here at The Bridge to Hope which could help someone with getting birth certificates\, social security cards\, a deposit for rent\, car repair assistance\, and any other financial support that clients could need during their journey to healing from abuse.&nbsp\;<br />\n<br />\nA limited number of tickets will be sold for this event. Tickets are $40 plus a $5 fee through Event Brite. Tickets can be purchased at:<br />\nhttps://www.eventbrite.com/e/designer-purse-bingo-tickets-519133591547?aff=ebdssbdestsearch&amp\;fbclid=IwAR1v_NQoYn45aFyrLkmBGDAQcRqwKmCwgsQhPxjcwqQ54NC4F8bhJS7g8uY<br />\n<br />\n&nbsp\;
LOCATION:Lucette Brewing Company
UID:e.64.34762
SEQUENCE:3
DTSTAMP:20260420T154017Z
URL:https://menomonie-gzcms.preview.gochambermaster.com/events/details/designer-purse-bingo-04-22-2023-34762
END:VEVENT

END:VCALENDAR
