BEGIN:VCALENDAR
VERSION:2.0
PRODID:-//ChamberMaster//Event Calendar 2.0//EN
METHOD:PUBLISH
X-PUBLISHED-TTL:P3D
REFRESH-INTERVAL:P3D
CALSCALE:GREGORIAN
BEGIN:VEVENT
DTSTART:20221109T233000Z
DTEND:20221110T003000Z
X-MICROSOFT-CDO-ALLDAYEVENT:FALSE
SUMMARY:Devil's Punchbowl Plant Study Results Webinar
DESCRIPTION:Join us for this free virtual presentation to learn the results of the recent plant inventory that was conducted from May through November of this year!\n\n \n\nUW-Stout Professor of Biology Dr. Amanda Little will discuss the wide variety of habitats that exist in this small 3-acre preserve and the diversity of vascular plant\, liverwort and moss species that can be found on site! Q & A session will follow the presentation.\n\nThe study was funded by a grant from The Wisconsin Rare Plant Preservation Fund of the Natural Resources Foundation of Wisconsin.\n\n \n\nRegister here: https://landmarkwi.org/.../devils-punchbowl-plant-study.../\n\n(The Zoom link to join will be emailed upon registration.)
X-ALT-DESC;FMTTYPE=text/html:<div>Join us for this free virtual presentation to learn the results of the recent plant inventory that was conducted from May through November of this year!<br />\n&nbsp\;</div>\n\n<div>UW-Stout Professor of Biology Dr. Amanda Little will discuss the wide variety of habitats that exist in this small 3-acre preserve and the diversity of vascular plant\, liverwort and moss species that can be found on site! Q &amp\; A session will follow the presentation.</div>\n\n<div>The study was funded by a grant from The Wisconsin Rare Plant Preservation Fund of the Natural Resources Foundation of Wisconsin.<br />\n&nbsp\;</div>\n\n<div>Register here:&nbsp\;<a class="x1i10hfl xjbqb8w x6umtig x1b1mbwd xaqea5y xav7gou x9f619 x1ypdohk xt0psk2 xe8uvvx xdj266r x11i5rnm xat24cr x1mh8g0r xexx8yu x4uap5 x18d9i69 xkhd6sd x16tdsg8 x1hl2dhg xggy1nq x1a2a7pz xt0b8zv x1fey0fg" href="https://landmarkwi.org/event/devils-punchbowl-plant-study-results/?fbclid=IwAR2ikzhIoCGK4UgpQRLLjpOMHFwzaAFvEYoYZqsed2xZ0kQajdsBtVPmUJM" rel="nofollow noopener" style="color: var(--blue-link)\; cursor: pointer\; text-decoration-line: none\; outline: none\; list-style: none\; border-width: 0px\; border-style: initial\; border-color: initial\; margin: 0px\; text-align: inherit\; padding: 0px\; -webkit-tap-highlight-color: transparent\; box-sizing: border-box\; touch-action: manipulation\; background-color: transparent\; display: inline\; font-family: inherit\;" tabindex="0" target="_blank">https://landmarkwi.org/.../devils-punchbowl-plant-study.../</a><br />\n(The Zoom link to join will be emailed upon registration.)</div>\n
LOCATION:ONLINE
UID:e.64.34651
SEQUENCE:3
DTSTAMP:20260421T165606Z
URL:https://menomonie-gzcms.preview.gochambermaster.com/events/details/devil-s-punchbowl-plant-study-results-webinar-34651
END:VEVENT

END:VCALENDAR
