BEGIN:VCALENDAR
VERSION:2.0
PRODID:-//ChamberMaster//Event Calendar 2.0//EN
METHOD:PUBLISH
X-PUBLISHED-TTL:P3D
REFRESH-INTERVAL:P3D
CALSCALE:GREGORIAN
BEGIN:VEVENT
DTSTART:20201031T200000Z
DTEND:20201031T220000Z
X-MICROSOFT-CDO-ALLDAYEVENT:FALSE
SUMMARY:Dick's Fresh Market In Store Trick or Treat
DESCRIPTION:Looking for a safe indoor spot for spooky family fun?! Join us at Dick's Fresh Market to Trick Or Treat in each department of the store!
X-ALT-DESC;FMTTYPE=text/html:<span style="color: rgb(5\, 5\, 5)\; font-family: &quot\;Segoe UI Historic&quot\;\, &quot\;Segoe UI&quot\;\, Helvetica\, Arial\, sans-serif\; font-size: 15px\;">Looking for a safe indoor spot for spooky family fun?! Join us at Dick&#39\;s Fresh Market to Trick Or Treat in each department of the store!</span>
LOCATION:Dick's Fresh Market Menomonie
UID:e.64.30738
SEQUENCE:3
DTSTAMP:20260424T084939Z
URL:https://menomonie-gzcms.preview.gochambermaster.com/events/details/dick-s-fresh-market-in-store-trick-or-treat-30738
END:VEVENT

END:VCALENDAR
