BEGIN:VCALENDAR
VERSION:2.0
PRODID:-//ChamberMaster//Event Calendar 2.0//EN
METHOD:PUBLISH
X-PUBLISHED-TTL:P3D
REFRESH-INTERVAL:P3D
CALSCALE:GREGORIAN
BEGIN:VEVENT
DTSTART:20230924T200000Z
DTEND:20230925T230000Z
X-MICROSOFT-CDO-ALLDAYEVENT:FALSE
SUMMARY:Disney Frozen Jr. Auditions
DESCRIPTION:Well\, Frozen JR coming to the Mabel Tainter stage that is! Audition dates are set\, and we CAN NOT WAIT to see all of the talented area young people at one of the two audition dates. Mark your calendar for September 24\, 2023\, at 3:00 PM\, and September 25\, 2023\, at 6:00 PM\, and make a plan to BE THERE! Many more details to come\, so keep an eye on the MTG Facebook page to catch all of the latest!
X-ALT-DESC;FMTTYPE=text/html:Well\, Frozen JR coming to the Mabel Tainter stage that is! Audition dates are set\, and we CAN NOT WAIT to see all of the talented area young people at one of the two audition dates. Mark your calendar for September 24\, 2023\, at 3:00 PM\, and September 25\, 2023\, at 6:00 PM\, and make a plan to BE THERE! Many more details to come\, so keep an eye on the MTG Facebook page to catch all of the latest!
LOCATION:Menomonie Theater Guild
UID:e.64.34862
SEQUENCE:3
DTSTAMP:20260420T002433Z
URL:https://menomonie-gzcms.preview.gochambermaster.com/events/details/disney-frozen-jr-auditions-34862
END:VEVENT

END:VCALENDAR
