BEGIN:VCALENDAR
VERSION:2.0
PRODID:-//ChamberMaster//Event Calendar 2.0//EN
METHOD:PUBLISH
X-PUBLISHED-TTL:P3D
REFRESH-INTERVAL:P3D
CALSCALE:GREGORIAN
BEGIN:VEVENT
DTSTART:20190905T220000Z
DTEND:20190906T030000Z
X-MICROSOFT-CDO-ALLDAYEVENT:FALSE
SUMMARY:Dunn County FIsh&Game 32nd Annual Fall Conservation Banquet
DESCRIPTION:Conservation Banquet
X-ALT-DESC;FMTTYPE=text/html:Conservation Banquet
LOCATION:Broadway Banquet Center
UID:e.64.26886
SEQUENCE:3
DTSTAMP:20260425T155150Z
URL:https://menomonie-gzcms.preview.gochambermaster.com/events/details/dunn-county-fish-game-32nd-annual-fall-conservation-banquet-26886
END:VEVENT

END:VCALENDAR
