BEGIN:VCALENDAR
VERSION:2.0
PRODID:-//ChamberMaster//Event Calendar 2.0//EN
METHOD:PUBLISH
X-PUBLISHED-TTL:P3D
REFRESH-INTERVAL:P3D
CALSCALE:GREGORIAN
BEGIN:VEVENT
DTSTART:20190910T180000Z
DTEND:20190910T210000Z
X-MICROSOFT-CDO-ALLDAYEVENT:FALSE
SUMMARY:Dunn County Job Fair
DESCRIPTION:Local job fair hosted by the Dunn County Child Support Agency and Workforce Resource. Staffing agencies\, direct hire employers and Workforce Resource Representatives on site!
X-ALT-DESC;FMTTYPE=text/html:Local job fair hosted by the Dunn County Child Support Agency and Workforce Resource. Staffing agencies\, direct hire employers and Workforce Resource Representatives on site!
LOCATION:Dunn County Judicial Center\, 615 Stokke Parkway\, Menomonie\, WI 54751
UID:e.64.26915
SEQUENCE:3
DTSTAMP:20260425T155205Z
URL:https://menomonie-gzcms.preview.gochambermaster.com/events/details/dunn-county-job-fair-09-10-2019-26915
END:VEVENT

END:VCALENDAR
